BEGIN:VCALENDAR
VERSION:2.0
PRODID:-//wp-events-plugin.com//7.2.3.1//EN
TZID:America/Detroit
X-WR-TIMEZONE:America/Detroit
BEGIN:VEVENT
UID:9984@cranbrookartmuseum.org
DTSTART:20181006T130000Z
DTEND:20181006T140000Z
DTSTAMP:20181002T154405Z
URL:https://cranbrookartmuseum.org/events/obey-giant/
SUMMARY:Obey Giant
DESCRIPTION:Documentary about the life and career of street artist\, illust
 rator\, graphic designer\, activist\, and founder of OBEY Clothing\, Shepa
 rd Fairey.\nThis event is free and open to the public.
ATTACH;FMTTYPE=image/jpeg:https://cranbrookartmuseum.org/wp-content/upload
 s/2018/07/Untitled-2-01.jpg
CATEGORIES:Events,Film Screenings,Shepard Fairey: Salad Days
LOCATION:Cranbrook Art Museum deSalle Auditorium\, 39221 Woodward Ave.\, Bl
 oomfield Hills\, MI\, 48304\, United States
X-APPLE-STRUCTURED-LOCATION;VALUE=URI;X-ADDRESS=39221 Woodward Ave.\, Bloom
 field Hills\, MI\, 48304\, United States;X-APPLE-RADIUS=100;X-TITLE=Cranbr
 ook Art Museum deSalle Auditorium:geo:0,0
END:VEVENT
END:VCALENDAR