BEGIN:VCALENDAR
VERSION:2.0
PRODID:-//wp-events-plugin.com//7.2.3.1//EN
TZID:America/Detroit
X-WR-TIMEZONE:America/Detroit
BEGIN:VEVENT
UID:10041@cranbrookartmuseum.org
DTSTART:20190202T100000Z
DTEND:20190202T170000Z
DTSTAMP:20190110T162353Z
URL:https://cranbrookartmuseum.org/events/on-mentorship-cranbrook-academy-
 of-art-craft-symposium/
SUMMARY:On Mentorship: Cranbrook Academy of Art Craft Symposium
DESCRIPTION:The Cranbrook Academy of Art Ceramics\, Fiber\, and Metals depa
 rtments in collaboration with Cranbrook Art Museum and Cranbrook Center fo
 r Collections and Research are hosting a symposium featuring alumni from C
 eramics\, Fiber\, and Metalsmithing who have become successful professiona
 ls in the fields of craft\, art\, design and education. On Mentorship will
  generate dialogue between artists that hold critical practices and mentor
  the next generation of makers. Marcellus Armstrong\, Ebitenyefa Baralaye\
 , Emily Culver\, Annica Cuppetelli\, Sonja Dahl\, Jovencio de la Paz\, Sha
 nnon Goff\, Julia Heineccius\, Thomas Müller\, Seth Papac\, Stacy Jo Scot
 t\, and Timothy Veske-McMahon\, return to their alma mater to share their 
 varied experiences since graduating through individual lectures. They will
  be joined by Glenn Adamson\, writer\, and curator working across craft\, 
 design\, and contemporary art. Accompanied by Adamson as Moderator\, the a
 rtists will take part in group panel discussions to consider the trajector
 y of arts education and provide insight into the future of the field of cr
 aft.
ATTACH;FMTTYPE=image/jpeg:https://cranbrookartmuseum.org/wp-content/upload
 s/2018/12/Instagram-Square_2019_v3.1.png
CATEGORIES:Events,Ian McDonald,Lectures + Talks
LOCATION:Cranbrook Art Museum\, 39221 Woodward Ave\, Box 801\, Bloomfield H
 ills\, MI\, 48303\, United States
GEO:42.5727665;-83.25051710000002
X-APPLE-STRUCTURED-LOCATION;VALUE=URI;X-ADDRESS=39221 Woodward Ave\, Box 80
 1\, Bloomfield Hills\, MI\, 48303\, United States;X-APPLE-RADIUS=100;X-TIT
 LE=Cranbrook Art Museum:geo:42.5727665,-83.25051710000002
END:VEVENT
END:VCALENDAR