BEGIN:VCALENDAR
VERSION:2.0
PRODID:-//wp-events-plugin.com//7.2.3.1//EN
TZID:America/Detroit
X-WR-TIMEZONE:America/Detroit
BEGIN:VEVENT
UID:11772@cranbrookartmuseum.org
DTSTART;TZID=America/Detroit:20260418T130000
DTEND;TZID=America/Detroit:20260418T170000
DTSTAMP:20260413T204554Z
URL:https://cranbrookartmuseum.org/events/open-studios-2026/
SUMMARY:OPEN STUDIOS 2026
DESCRIPTION:Spend the day at Cranbrook! Tour the Academy of Art studios\, A
 rt Museum\, Institute of Science\, and Cranbrook Gardens for free.\n\nVisi
 t Cranbrook Academy of Art and Cranbrook Educational Community campus on 
 Saturday\, April 18\, 2026\, from 1-5pm! Event details and maps will be ad
 ded as the event approaches.\n\nOPEN STUDIOS is the only time of year the 
 public can explore the studios of Cranbrook Academy of Art!\n\n 	Explore 
 the private studio spaces of Cranbrook Academy of Art artists. Studio Map.
 \n 	Graduate student art will be for sale in person\n 	Free admission to C
 ranbrook Art Museum\n 	Free admission to Cranbrook Institute of Science (p
 aid admission is required for Special Exhibition\, the Acheson Planetarium
 \, and exploreLAB)\n 	Free Informal Tours at Saarinen House and Cranbrook 
 House\n 	Food trucks! The Grilled Wrap and Tacos Hernandez return\, plus n
 ew this year\, Feinated Coffee.\n 	Hear the sounds of the Detroit Opera's 
 Resident Artists Cole Bellamy\, Mia Mandineau\, Travis Williams\, and Bria
 nna Robinson\, who will perform live outside of Cranbrook Art Museum throu
 ghout the afternoon\, accompanied by pianist John Etsell.\n\nREGISTER ON E
 VENTBRITE\n\nCheck-in Locations\n\nPlease park in one of our designated l
 ots. A shuttle will drop you off at check-in and other locations. Check in
  at Cranbrook Art Museum or at the intersection of Academy Way and Lone Pi
 ne Road for printed maps and guidance. Online registration closes on Frida
 y\, April 17 at 10pm. Walk-ups are welcome.\n\nParking and Transportation
 \n\nMultiple free parking lots will be available. Please note that not all
  lots have shuttle service. Parking Map.\n\nAccessibility\n\nThe New Studi
 os Building of Cranbrook Academy of Art\, Cranbrook Art Museum\, and Cranb
 rook Institute of Science are the only wheelchair-accessible areas during 
 OPEN STUDIOS. The New Studios Building houses the Cranbrook Academy of Art
  Ceramics\, Fiber\, and Metalsmithing studios.\n\nOPEN STUDIOS is a free p
 ublic event. Your RSVP helps us coordinate parking\, shuttles\, and food t
 rucks!
ATTACH;FMTTYPE=image/jpeg:https://cranbrookartmuseum.org/wp-content/upload
 s/2026/02/OPEN-STUDIOS-Square.jpg
CATEGORIES:Events
LOCATION:Cranbrook Art Museum\, 39221 Woodward Ave\, Box 801\, Bloomfield H
 ills\, MI\, 48303\, United States
GEO:42.5727665;-83.25051710000002
X-APPLE-STRUCTURED-LOCATION;VALUE=URI;X-ADDRESS=39221 Woodward Ave\, Box 80
 1\, Bloomfield Hills\, MI\, 48303\, United States;X-APPLE-RADIUS=100;X-TIT
 LE=Cranbrook Art Museum:geo:42.5727665,-83.25051710000002
END:VEVENT
BEGIN:VTIMEZONE
TZID:America/Detroit
X-LIC-LOCATION:America/Detroit
BEGIN:DAYLIGHT
DTSTART:20260308T030000
TZOFFSETFROM:-0500
TZOFFSETTO:-0400
TZNAME:EDT
END:DAYLIGHT
END:VTIMEZONE
END:VCALENDAR