BEGIN:VCALENDAR
VERSION:2.0
PRODID:-//wp-events-plugin.com//7.2.3.1//EN
TZID:America/Detroit
X-WR-TIMEZONE:America/Detroit
BEGIN:VEVENT
UID:10431@cranbrookartmuseum.org
DTSTART;TZID=America/Detroit:20220126T110000
DTEND;TZID=America/Detroit:20220130T170000
DTSTAMP:20220110T150233Z
URL:https://cranbrookartmuseum.org/events/opening-week-homebody-lower-gall
 eries/
SUMMARY:Opening Week: Homebody\, Lower Galleries
DESCRIPTION:Homebody\, curated by Kat Goffnett\, Assistant Curator of Colle
 ctions\, opens in our Lower Galleries this month. Homebody is rooted in a 
 desire to unpack the layers of “home” by placing in conversation artis
 tic interpretations of the word and the complex feelings it evokes. All of
  the artists featured in the exhibition have ties to Detroit\, including s
 ome Cranbrook Academy of Art alumni\, granting Homebody both a local pers
 pective and a spectrum of backgrounds and interests that reflect the compl
 exity of the city itself. Learn more about the exhibition.\n\nBook your ad
 mission now to join us for opening week\, January 26 through January 30\, 
 2022.\n\nReserve General Admission\n\n&nbsp\;\n\nCranbrook Art Museum Hour
 s:\n\nWednesday: 11am - 5pm\n\nThursday: 11am - 8pm\n\nFriday-Sunday: 11am
  - 5pm\n\nMonday\, Tuesday: Closed
ATTACH;FMTTYPE=image/jpeg:https://cranbrookartmuseum.org/wp-content/upload
 s/2022/01/physicsofsorrow3-1024x1481-1-e1641826947492.jpg
CATEGORIES:Homebody
LOCATION:Cranbrook Art Museum\, 39221 Woodward Ave\, Box 801\, Bloomfield H
 ills\, MI\, 48303\, United States
GEO:42.5727665;-83.25051710000002
X-APPLE-STRUCTURED-LOCATION;VALUE=URI;X-ADDRESS=39221 Woodward Ave\, Box 80
 1\, Bloomfield Hills\, MI\, 48303\, United States;X-APPLE-RADIUS=100;X-TIT
 LE=Cranbrook Art Museum:geo:42.5727665,-83.25051710000002
END:VEVENT
BEGIN:VTIMEZONE
TZID:America/Detroit
X-LIC-LOCATION:America/Detroit
BEGIN:STANDARD
DTSTART:20211107T010000
TZOFFSETFROM:-0400
TZOFFSETTO:-0500
TZNAME:EST
END:STANDARD
END:VTIMEZONE
END:VCALENDAR