BEGIN:VCALENDAR
VERSION:2.0
PRODID:-//wp-events-plugin.com//7.2.3.1//EN
TZID:America/Detroit
X-WR-TIMEZONE:America/Detroit
BEGIN:VEVENT
UID:11305@cranbrookartmuseum.org
DTSTART;TZID=America/Detroit:20241109T130000
DTEND;TZID=America/Detroit:20241109T160000
DTSTAMP:20241028T183357Z
URL:https://cranbrookartmuseum.org/events/plucking-performance-gretchen-go
 nzales-davidson-david-hurley-chris-peters-battle-elf/
SUMMARY:Plucking Performance: Gretchen Gonzales Davidson\, David Hurley & C
 hris Peters (Battle Elf)
DESCRIPTION:For the next edition of the Fresh Paint series Subtleism\, Chie
 f Curator Laura Mott pairs a new body of work with Neha Vedpathak with wor
 ks by Agnes Martin\, one of her seminal influences. Join us for a gallery 
 performance highlighting the durational meditative quality of the works wi
 th music that uses the technique of plucking for stringed instruments. \n
 \nVedpathak’s minimalist works are created using a process she calls "pl
 ucking\," a durational\, meditative process of very slowly pulling apart p
 aper\, completely transforming it. Plucking is a term also used in music\,
  primarily with stringed instruments\, a technique used by cultures all ov
 er the world which takes hours of practice to master\, manual dexterity an
 d determination. A practice of intimate durational relationship between ar
 tist and technique.  \n\nOur series of the same name "Plucking" invites a
 rtists to play acoustically within North Gallery in the exhibition to pluc
 k away at their craft in a durational meditative sense on select Saturday 
 afternoons. Audiences will be provided with floor pillows and be encourage
 d to come and go\, staying as long as they are moved to\, to experience th
 e performances (but not encouraging a concrete seated audience for the who
 le period). \n\nFor our first performance in this series\, Chris Peters\,
  Dave Hurley and Gretchen Gonzales (Battle Elf) will produce soundscapes o
 f human experience. Like the rushing rivers of traffic jams\, the fuzzy gu
 itar meditations of Peters and Gonzales anchored by Hurley’s arrhythmic 
 heart-beating percussion take you on a cosmic journey. \n\n \n\nNo Regis
 tration is required for this performance  
ATTACH;FMTTYPE=image/jpeg:https://cranbrookartmuseum.org/wp-content/upload
 s/2024/08/EEBerger_LisaWaud_May24_082-scaled.jpg
CATEGORIES:2024 Subtleism: Neha Vedpathak,Performance
LOCATION:Cranbrook Art Museum\, 39221 Woodward Ave\, Box 801\, Bloomfield H
 ills\, MI\, 48303\, United States
GEO:42.5727665;-83.25051710000002
X-APPLE-STRUCTURED-LOCATION;VALUE=URI;X-ADDRESS=39221 Woodward Ave\, Box 80
 1\, Bloomfield Hills\, MI\, 48303\, United States;X-APPLE-RADIUS=100;X-TIT
 LE=Cranbrook Art Museum:geo:42.5727665,-83.25051710000002
END:VEVENT
BEGIN:VTIMEZONE
TZID:America/Detroit
X-LIC-LOCATION:America/Detroit
BEGIN:STANDARD
DTSTART:20241103T010000
TZOFFSETFROM:-0400
TZOFFSETTO:-0500
TZNAME:EST
END:STANDARD
END:VTIMEZONE
END:VCALENDAR