BEGIN:VCALENDAR
VERSION:2.0
PRODID:-//wp-events-plugin.com//7.2.3.1//EN
TZID:America/Detroit
X-WR-TIMEZONE:America/Detroit
BEGIN:VEVENT
UID:7700@cranbrookartmuseum.org
DTSTART:20170307T190000Z
DTEND:20170307T203000Z
DTSTAMP:20170223T035713Z
URL:https://cranbrookartmuseum.org/events/public-conversation-with-mcarthu
 r-binion/
SUMMARY:Public Conversation with McArthur Binion
DESCRIPTION:Binion is the recipient of the 2017 Distinguished Alumni Award 
 from Cranbrook Academy of Art. 
ATTACH;FMTTYPE=image/jpeg:https://cranbrookartmuseum.org/wp-content/upload
 s/2017/02/McArthur-Binion-web-e1487696343369.jpg
CATEGORIES:Lectures + Talks
LOCATION:Cranbrook Art Museum deSalle Auditorium\, 39221 Woodward Ave.\, Bl
 oomfield Hills\, MI\, 48304\, United States
X-APPLE-STRUCTURED-LOCATION;VALUE=URI;X-ADDRESS=39221 Woodward Ave.\, Bloom
 field Hills\, MI\, 48304\, United States;X-APPLE-RADIUS=100;X-TITLE=Cranbr
 ook Art Museum deSalle Auditorium:geo:0,0
END:VEVENT
END:VCALENDAR