BEGIN:VCALENDAR
VERSION:2.0
PRODID:-//wp-events-plugin.com//7.2.3.1//EN
TZID:America/Detroit
X-WR-TIMEZONE:America/Detroit
BEGIN:VEVENT
UID:11248@cranbrookartmuseum.org
DTSTART;TZID=America/Detroit:20241107T180000
DTEND;TZID=America/Detroit:20241107T193000
DTSTAMP:20241014T134706Z
URL:https://cranbrookartmuseum.org/events/public-lecture-axel-timm/
SUMMARY:Annual Swanson Public Lecture: Axel Timm
DESCRIPTION:Please join us for the 2024-25 Annual Swanson Lecture by Alex T
 imm\, partner at raumlaborberlin\, a Berlin-based collective of 9 architec
 ts working at the intersection of architecture\, city planning\, art\, and
  urban intervention.\n\nCranbrook Academy of Art’s 2024-25 Public Lectur
 e Series is free and open to the public at Cranbrook’s deSalle Auditoriu
 m. Cranbrook Art Museum is open late and free to all on Thursdays\, please
  arrive early to explore our current exhibitions.\n\nAxel Timm studied Arc
 hitecture in Berlin (TU Berlin). 2003–2005\; member of the board of Kuns
 tfabrik am Flutgraben e.V. Since 2005 he has been head of “Autotrans Ltd
 .”\, a society for artistic production and studio administration. He was
  a guest professor at the FH Dortmund from 2010 to 2011.\n\nThe annual Swa
 nson lecture is sponsored by the J. Robert F. Swanson Fund.\n\nThe J. Rob
 ert F. Swanson Lecture Fund at Cranbrook Academy of Art was established in
  1983 by the family of J. Robert F. Swanson\, a noted architect who was al
 so the son-in-law of Eliel Saarinen. Each year\, the Swanson Lecture bri
 ngs to the Cranbrook campus architects\, designers\, artists\, or schola
 rs who have received critical acclaim for their work and enjoy a susta
 ined record of excellence and achievement in their respective fields.  J
 . Robert F. Swanson and his wife and lifelong design partner\, Pipsan Sa
 arinen Swanson\, founded their firm Swanson Associates in 1947 and worked 
 on many exteriors and interiors\, including residences\, schools\, univers
 ities\, churches\, airports\, banks\, government\, industrial and commerci
 al projects.
ATTACH;FMTTYPE=image/jpeg:https://cranbrookartmuseum.org/wp-content/upload
 s/2024/08/Axel-Timm-scaled.jpg
CATEGORIES:Lectures + Talks
LOCATION:Cranbrook Art Museum deSalle Auditorium\, 39221 Woodward Ave.\, Bl
 oomfield Hills\, MI\, 48304\, United States
X-APPLE-STRUCTURED-LOCATION;VALUE=URI;X-ADDRESS=39221 Woodward Ave.\, Bloom
 field Hills\, MI\, 48304\, United States;X-APPLE-RADIUS=100;X-TITLE=Cranbr
 ook Art Museum deSalle Auditorium:geo:0,0
END:VEVENT
BEGIN:VTIMEZONE
TZID:America/Detroit
X-LIC-LOCATION:America/Detroit
BEGIN:STANDARD
DTSTART:20241103T010000
TZOFFSETFROM:-0400
TZOFFSETTO:-0500
TZNAME:EST
END:STANDARD
END:VTIMEZONE
END:VCALENDAR