BEGIN:VCALENDAR
VERSION:2.0
PRODID:-//wp-events-plugin.com//7.2.3.1//EN
TZID:America/Detroit
X-WR-TIMEZONE:America/Detroit
BEGIN:VEVENT
UID:11368@cranbrookartmuseum.org
DTSTART;TZID=America/Detroit:20241205T180000
DTEND;TZID=America/Detroit:20241205T193000
DTSTAMP:20240912T200735Z
URL:https://cranbrookartmuseum.org/events/public-lecture-jomo-tariku/
SUMMARY:Public Lecture: Jomo Tariku
DESCRIPTION:Cranbrook Academy of Art’s 2024-25 Public Lecture Series is f
 ree and open to the public at Cranbrook’s deSalle Auditorium. Cranbrook 
 Art Museum is open late and free to all on Thursdays\, please arrive early
  to explore our current exhibitions.\n\n\n\nJomo’s furniture designs dra
 w inspiration from Africa’s rich cultural heritage\, historical structur
 es\, traditional furniture\, craft\, colors\, artifacts\, landscapes\, wil
 dlife\, and even hairstyles. His research on licensed Black furniture desi
 gners has been featured in prominent publications such as the New York Tim
 es and BOH. Jomo’s work has graced more than 40 publications\, movie set
 s and even the home of the Vice President of US\, Kamala Harris at the Nav
 al Observatory. His designs are part of the permanent collections in major
  museums such as the Met\, PMA\, and LACMA. Jomo has been recognized by Wa
 llpaper Magazine\, Oprah\, and Susanne Graner of Vitra Design Museum for h
 is impactful contributions. Beyond furniture design\, he applies his skill
 s to showcase African stories through compelling data visualizations and h
 as diversified into other creative spaces\, including public art sculpture
 s and wallpaper design. Jomo is represented by Wexler Gallery in the US an
 d Foreign Agent Gallery in Switzerland and resides in Springfield\, Virgin
 ia\, with his wife and two sons.\n\n\n
ATTACH;FMTTYPE=image/jpeg:https://cranbrookartmuseum.org/wp-content/upload
 s/2024/09/5G8A1483-Credit-©Indrias-Getachew-Kassaye.png
CATEGORIES:Events,Lectures + Talks
LOCATION:Cranbrook Art Museum deSalle Auditorium\, 39221 Woodward Ave.\, Bl
 oomfield Hills\, MI\, 48304\, United States
X-APPLE-STRUCTURED-LOCATION;VALUE=URI;X-ADDRESS=39221 Woodward Ave.\, Bloom
 field Hills\, MI\, 48304\, United States;X-APPLE-RADIUS=100;X-TITLE=Cranbr
 ook Art Museum deSalle Auditorium:geo:0,0
END:VEVENT
BEGIN:VTIMEZONE
TZID:America/Detroit
X-LIC-LOCATION:America/Detroit
BEGIN:STANDARD
DTSTART:20241103T010000
TZOFFSETFROM:-0400
TZOFFSETTO:-0500
TZNAME:EST
END:STANDARD
END:VTIMEZONE
END:VCALENDAR