BEGIN:VCALENDAR
VERSION:2.0
PRODID:-//wp-events-plugin.com//7.2.3.1//EN
TZID:America/Detroit
X-WR-TIMEZONE:America/Detroit
BEGIN:VEVENT
UID:11767@cranbrookartmuseum.org
DTSTART;TZID=America/Detroit:20260217T180000
DTEND;TZID=America/Detroit:20260217T193000
DTSTAMP:20260209T184949Z
URL:https://cranbrookartmuseum.org/events/public-lecture-mireia-luzarraga-
 galleries-closed/
SUMMARY:CAA Public Lecture: Mireia Luzárraga (Galleries Closed)
DESCRIPTION:Join Cranbrook Academy of Art at deSalle Auditorium for a free\
 , public lecture with Mireia Luzárraga on Tuesday\, February 17\, 2026\, 
 at 6pm. Please enter through the Cranbrook Academy of Art Library\; Cranbr
 ook Art Museum will be closed.\nMireia Luzárraga (Madrid\, 1981) is an ar
 chitect and educator\, and co-founder of TAKK\, an architecture and resear
 ch studio based in Barcelona and New York\, together with Alejandro Muiño
 . Her work investigates how architecture can contribute to more equitable 
 ways of living through feminist and ecological approaches to design. She i
 s an Assistant Professor at Columbia University GSAPP\, where she directs 
 the First Year Core Design Studio\, and has been a Visiting Professor at t
 he University of Tokyo. She was named a Design Vanguard 2024 and selected 
 for Forbes’ 50 Architects to Watch. She is co-editor of 100 Words for Wa
 ter and co-curator of the Catalan Pavilion at the Venice Architecture Bien
 nale.\n
ATTACH;FMTTYPE=image/jpeg:https://cranbrookartmuseum.org/wp-content/upload
 s/2026/02/Mireia_Luzarraga_portrait_web.jpg
CATEGORIES:Lectures + Talks
LOCATION:Cranbrook Art Museum deSalle Auditorium\, 39221 Woodward Ave.\, Bl
 oomfield Hills\, MI\, 48304\, United States
X-APPLE-STRUCTURED-LOCATION;VALUE=URI;X-ADDRESS=39221 Woodward Ave.\, Bloom
 field Hills\, MI\, 48304\, United States;X-APPLE-RADIUS=100;X-TITLE=Cranbr
 ook Art Museum deSalle Auditorium:geo:0,0
END:VEVENT
BEGIN:VTIMEZONE
TZID:America/Detroit
X-LIC-LOCATION:America/Detroit
BEGIN:STANDARD
DTSTART:20251102T010000
TZOFFSETFROM:-0400
TZOFFSETTO:-0500
TZNAME:EST
END:STANDARD
END:VTIMEZONE
END:VCALENDAR