BEGIN:VCALENDAR
VERSION:2.0
PRODID:-//wp-events-plugin.com//7.2.3.1//EN
TZID:America/Detroit
X-WR-TIMEZONE:America/Detroit
BEGIN:VEVENT
UID:9970@cranbrookartmuseum.org
DTSTART:20180615T180000Z
DTEND:20180615T220000Z
DTSTAMP:20180614T143900Z
URL:https://cranbrookartmuseum.org/events/punk-graphics-shepard-fairey-pre
 view-party/
SUMMARY:Punk Graphics & Shepard Fairey Preview Party
DESCRIPTION:Ticket sales are live!\n\nThis summer Cranbrook Art Museum dive
 s head-first into the depths of punk and post-punk culture with the debut 
 of Too Fast to Live\, Too Young to Die: Punk Graphics\, 1976-1986 and Shep
 ard Fairey: Salad Days\, 1989-1999. Too Fast to Live\, Too Young to Die ex
 amines one of the most important cultural movements of the twentieth centu
 ry through the graphic design of its printed matter: the flyers\, posters\
 , vinyl packaging\, and zines from the U.S. and the U.K. and beyond. Shepa
 rd Fairey: Salad Days\, 1989-1999\, considers the first decade of Fairey
 ’s artistic practice\, and its roots in the graphic language and philoso
 phies of the punk scene.\n\nSee It First! \nArtMembers Preview Party\n6
 –7pm Free for ArtMembers\nMemberships may be purchased at the door\n\nO
 pening Reception\n7–10pm\n$35 / in advance or at the door\n\nBoth event
 s are free for ArtMembers\n\nTo find parking for this event\, download our
  parking map here.\n\nArtMembers: Both events are free for ArtMembers\, yo
 u do not need to purchase tickets. Simply check in at the ArtMembers desk 
 the evening of the event.\nEventbrite ticket holders: Look for the Eventbr
 ite check-in table to redeem your ticket before entering the Art Museum.\n
 Only small bags will be allowed into the galleries. We recommend leaving l
 arge bags in the car.\nFriday’s opening is an ArtMember exclusive event.
  We will be honoring reciprocal benefits from other Museums on Saturday\, 
 June 16.
ATTACH;FMTTYPE=image/jpeg:https://cranbrookartmuseum.org/wp-content/upload
 s/2017/12/punkpile-scaled.jpg
CATEGORIES:Exhibitions,Shepard Fairey: Salad Days,Too Fast to Live, Too
 Young to Die: Punk Graphics, 1976-1986
LOCATION:Cranbrook Art Museum\, 39221 Woodward Ave\, Box 801\, Bloomfield H
 ills\, MI\, 48303\, United States
GEO:42.5727665;-83.25051710000002
X-APPLE-STRUCTURED-LOCATION;VALUE=URI;X-ADDRESS=39221 Woodward Ave\, Box 80
 1\, Bloomfield Hills\, MI\, 48303\, United States;X-APPLE-RADIUS=100;X-TIT
 LE=Cranbrook Art Museum:geo:42.5727665,-83.25051710000002
END:VEVENT
END:VCALENDAR