BEGIN:VCALENDAR
VERSION:2.0
PRODID:-//wp-events-plugin.com//7.2.3.1//EN
TZID:America/Detroit
X-WR-TIMEZONE:America/Detroit
BEGIN:VEVENT
UID:10080@cranbrookartmuseum.org
DTSTART:20190428T131500Z
DTEND:20190428T170000Z
DTSTAMP:20190416T140609Z
URL:https://cranbrookartmuseum.org/events/saarinen-house-opening-reception
 /
SUMMARY:Saarinen House Opening Reception
DESCRIPTION:Free Opening Reception\nTour Saarinen House\, Eliel Saarinen’
 s Art Deco masterwork and the jewel of Cranbrook’s architectural treasur
 es.\n\nThe exhibition\, STUDIO LOJA SAARINEN: THE ART AND ARCHITECTURE OF 
 WEAVING\, 1928-1942 will open this day as well.\n\n\n\nLoja Saarinen head
 ed the Department of Weaving and Textile Design at Cranbrook Academy of Ar
 t while also leading Studio Loja Saarinen\, a commercial weaving studio. B
 egun with a single loom at Cranbrook in October 1928\, Studio Loja Saarine
 n grew to encompass thirty-five looms\, three of them master looms twelve 
 feet in width requiring three weavers to operate. Designs by Loja\, her hu
 sband Eliel\, weaver Maja Andersson Wirde\, and others were made into qual
 ity art fabrics\, rugs\, and window hangings. Commissions for Cranbrook’
 s institutions provided the bulk of the studio’s output\, while work was
  also produced for exhibitions\, private residences\, churches\, and busin
 esses—including rugs and cushions for Frank Lloyd Wright.\n\nThrough tex
 tiles on loan from the Kingswood School Cultural Properties Collection and
  Cranbrook Art Museum\, as well historic photographs and ephemera from Cra
 nbrook Archives\, this exhibition tells the story of Studio Loja Saarinen 
 and showcases the remarkable contributions of the studio toward making Cra
 nbrook a total work of art.
ATTACH;FMTTYPE=image/jpeg:https://cranbrookartmuseum.org/wp-content/upload
 s/2013/11/anders-ruhwald-the-anatomy-of-a-home-11-682x1024.jpg
CATEGORIES:Events,Tours
LOCATION:Saarinen House\, 39221 Woodward Ave\, Box 801\, Bloomfield Hills\,
  MI\, 48303\, United States
X-APPLE-STRUCTURED-LOCATION;VALUE=URI;X-ADDRESS=39221 Woodward Ave\, Box 80
 1\, Bloomfield Hills\, MI\, 48303\, United States;X-APPLE-RADIUS=100;X-TIT
 LE=Saarinen House:geo:0,0
END:VEVENT
END:VCALENDAR