BEGIN:VCALENDAR
VERSION:2.0
PRODID:-//wp-events-plugin.com//7.2.3.1//EN
TZID:America/Detroit
X-WR-TIMEZONE:America/Detroit
BEGIN:VEVENT
UID:10016@cranbrookartmuseum.org
DTSTART:20181129T140000Z
DTEND:20181129T153000Z
DTSTAMP:20181025T153043Z
URL:https://cranbrookartmuseum.org/events/samantha-noel/
SUMMARY:Samantha Noel
DESCRIPTION:Samantha A. Noel is an Assistant Professor of Art History at Wa
 yne State University. Her research interests revolve around the history of
  art\, visual culture and performance of the Black Diaspora. She has publi
 shed on black modern and contemporary art and performance in journals such
  as Small Axe\, Third Text\, and Art Journal. Noel’s current book manusc
 ript\, Tropical Aesthetics of Black Modernism (under contract with Duke Un
 iversity Press)\, examines black modernism in the early twentieth century\
 , particularly how tropicality functioned as a unifying element in African
  Diasporic art and performance.\n\nThis lecture is FREE.\nThis lecture is 
 sponsored by the Critical Studies and Humanities program
ATTACH;FMTTYPE=image/jpeg:https://cranbrookartmuseum.org/wp-content/upload
 s/2018/10/noel.jpg
CATEGORIES:Events,Lectures + Talks
LOCATION:Cranbrook Art Museum deSalle Auditorium\, 39221 Woodward Ave.\, Bl
 oomfield Hills\, MI\, 48304\, United States
X-APPLE-STRUCTURED-LOCATION;VALUE=URI;X-ADDRESS=39221 Woodward Ave.\, Bloom
 field Hills\, MI\, 48304\, United States;X-APPLE-RADIUS=100;X-TITLE=Cranbr
 ook Art Museum deSalle Auditorium:geo:0,0
END:VEVENT
END:VCALENDAR