BEGIN:VCALENDAR
VERSION:2.0
PRODID:-//wp-events-plugin.com//7.2.3.1//EN
TZID:America/Detroit
X-WR-TIMEZONE:America/Detroit
BEGIN:VEVENT
UID:10667@cranbrookartmuseum.org
DTSTART;TZID=America/Detroit:20230114T150000
DTEND;TZID=America/Detroit:20230114T160000
DTSTAMP:20221003T184301Z
URL:https://cranbrookartmuseum.org/events/set-wilder-hall/
SUMMARY:Set: wilder/hall
DESCRIPTION:Set\, a series of improvisational performances including music\
 , movement\, and spoken word that directly respond to the exhibition James
  Benjamin Franklin: Full Circle. An energetic call and response across med
 ia\, each performance explores the languages of continuous discovery throu
 gh abstraction and improvisation.  Located within Larson gallery among th
 e artworks\, audiences will be immersed in a visual and auditory expressio
 n of joy\, color\, and introspection.\n\nThe duo wilder/hall is a project 
 of Kaleigh Wilder on baritone saxophone and Ben Hall\, percussionist. RSVP
  for this Set performance using the form below.\n\nBen Hall is a composer\
 , writer\, and organizer. He was profiled by Fred Moten in the book Black 
 and Blur and has written extensively about the visionary percussionist Mil
 ford Graves. He has participated in multiple museum exhibitions including 
 Slow An Alarm Until It's A Tone\, a solo exhibition at the Museum of Conte
 mporary Art Detroit. He is currently working on a feature-length documenta
 ry on the drummer Roy Brooks.\n\nKaleigh Wilder is an improviser and sound
  sculptor. Speaking through the baritone saxophone\, she likes to play fro
 m what she knows in her body—what her hands\, ears\, and inner child rem
 ember. Using timbral extremes that shift between raw and polished\, abrasi
 ve and sensitive\, discomfort and catharsis\, Kaleigh channels her lived e
 xperiences into sound to communicate viscerally. She hopes to amplify in t
 he listener their own understanding of music and Self.\n\n[gravityform id=
 "40" title="true"]
ATTACH;FMTTYPE=image/jpeg:https://cranbrookartmuseum.org/wp-content/upload
 s/2022/10/Set-wilder-wall.png
CATEGORIES:James Benjamin Franklin: Full Circle,Performance
LOCATION:Cranbrook Art Museum\, Larson Gallery\, 39221 Woodward Ave\, Bloom
 field Hills\, Michigan\, 48303\, United States
X-APPLE-STRUCTURED-LOCATION;VALUE=URI;X-ADDRESS=39221 Woodward Ave\, Bloomf
 ield Hills\, Michigan\, 48303\, United States;X-APPLE-RADIUS=100;X-TITLE=C
 ranbrook Art Museum\, Larson Gallery:geo:0,0
END:VEVENT
BEGIN:VTIMEZONE
TZID:America/Detroit
X-LIC-LOCATION:America/Detroit
BEGIN:STANDARD
DTSTART:20221106T010000
TZOFFSETFROM:-0400
TZOFFSETTO:-0500
TZNAME:EST
END:STANDARD
END:VTIMEZONE
END:VCALENDAR