BEGIN:VCALENDAR
VERSION:2.0
PRODID:-//wp-events-plugin.com//7.2.3.1//EN
TZID:America/Detroit
X-WR-TIMEZONE:America/Detroit
BEGIN:VEVENT
UID:10049@cranbrookartmuseum.org
DTSTART:20190123T180000Z
DTEND:20190123T194500Z
DTSTAMP:20190117T173238Z
URL:https://cranbrookartmuseum.org/events/sheida-soleimani/
SUMMARY:Sheida Soleimani: Lecture and Film Screening
DESCRIPTION:Join us for a lecture and film screening with Sheida Soleimani\
 , a 2015 graduate of the Cranbrook Academy of Art Photography department. 
 Soleimani is an Iranian-American artist who is the daughter of political r
 efugees that were persecuted by the Iranian government in the early 1980s.
  Her work melds sculpture\, collage\, film\, and photography to highlight 
 her critical perspectives on historical and contemporary socio-political o
 ccurrences in Iran and the Greater Middle East. She will deliver a lecture
  from 6-7pm\, followed by a screening of her film Medium of Exchange from 
 7-7:40pm.\n\nSponsored by the Photography department and in collaboration 
 with Library Street Collective. Soleimani will open the exhibition Medium 
 of Exchange at Library Street Collective in Detroit on January 26.​
ATTACH;FMTTYPE=image/jpeg:https://cranbrookartmuseum.org/wp-content/upload
 s/2019/01/moe_screengrab1.png
CATEGORIES:Events,Lectures + Talks
LOCATION:Cranbrook Art Museum\, 39221 Woodward Ave\, Box 801\, Bloomfield H
 ills\, MI\, 48303\, United States
GEO:42.5727665;-83.25051710000002
X-APPLE-STRUCTURED-LOCATION;VALUE=URI;X-ADDRESS=39221 Woodward Ave\, Box 80
 1\, Bloomfield Hills\, MI\, 48303\, United States;X-APPLE-RADIUS=100;X-TIT
 LE=Cranbrook Art Museum:geo:42.5727665,-83.25051710000002
END:VEVENT
END:VCALENDAR