BEGIN:VCALENDAR
VERSION:2.0
PRODID:-//wp-events-plugin.com//7.2.3.1//EN
TZID:America/Detroit
X-WR-TIMEZONE:America/Detroit
BEGIN:VEVENT
UID:7609@cranbrookartmuseum.org
DTSTART:20170223T190000Z
DTEND:20170223T200000Z
DTSTAMP:20170207T214227Z
URL:https://cranbrookartmuseum.org/events/sirchio-lecture-michael-hodges-d
 etroit-triumphant-the-architecture-impact-of-albert-kahn/
SUMMARY:Sirchio Lecture: Michael Hodges "Detroit Triumphant: The Architectu
 re & Impact of Albert Kahn"
DESCRIPTION:Cranbrook schools alumnus Michael Hodges '72 will speak as part
  of Cranbrook Schools' Sirchio Lecture Series
ATTACH;FMTTYPE=image/jpeg:https://cranbrookartmuseum.org/wp-content/upload
 s/2017/02/Michael-Hodges.jpg
CATEGORIES:Lectures + Talks
LOCATION:Cranbrook Art Museum deSalle Auditorium\, 39221 Woodward Ave.\, Bl
 oomfield Hills\, MI\, 48304\, United States
X-APPLE-STRUCTURED-LOCATION;VALUE=URI;X-ADDRESS=39221 Woodward Ave.\, Bloom
 field Hills\, MI\, 48304\, United States;X-APPLE-RADIUS=100;X-TITLE=Cranbr
 ook Art Museum deSalle Auditorium:geo:0,0
END:VEVENT
END:VCALENDAR