BEGIN:VCALENDAR
VERSION:2.0
PRODID:-//wp-events-plugin.com//7.2.3.1//EN
TZID:America/Detroit
X-WR-TIMEZONE:America/Detroit
BEGIN:VEVENT
UID:10014@cranbrookartmuseum.org
DTSTART:20181103T173000Z
DTEND:20181103T190000Z
DTSTAMP:20181023T200215Z
URL:https://cranbrookartmuseum.org/events/skooby-laposky/
SUMMARY:Skooby Laposky
DESCRIPTION:Do Philodendrons Dream of Electronic Suites in the Key of C++\n
 \nSound designer and composer Skooby Laposky will discuss the virtuosity o
 f limitations and the use of (bio)data\, open-source tools and generative 
 systems in extending creativity in his studio and on the stage. The talk w
 ill be followed by a musical performance that utilizes the MIDI Sprout bio
 data sonification device.\n\nSkooby Laposky is a composer\, producer and D
 J who crafts sound and music for motion\, narratives\, objects and events.
  He is the founder of WAAVES Studio and creator of boutique label Wilde Ca
 lm Records. He has performed at Juilliard\, crafted robot sounds\, scored 
 films for PBS and the BBC and hypnotized countless European discotheques. 
 He graduated from Cranbrook Academy of Art’s Printmaking department in 1
 999.\nThis lecture is sponsored by the 4D Design department.
ATTACH;FMTTYPE=image/jpeg:https://cranbrookartmuseum.org/wp-content/upload
 s/2018/10/skooby-gardner.jpg
CATEGORIES:Events,Lectures + Talks,Member Events
LOCATION:Cranbrook Art Museum deSalle Auditorium\, 39221 Woodward Ave.\, Bl
 oomfield Hills\, MI\, 48304\, United States
X-APPLE-STRUCTURED-LOCATION;VALUE=URI;X-ADDRESS=39221 Woodward Ave.\, Bloom
 field Hills\, MI\, 48304\, United States;X-APPLE-RADIUS=100;X-TITLE=Cranbr
 ook Art Museum deSalle Auditorium:geo:0,0
END:VEVENT
END:VCALENDAR