BEGIN:VCALENDAR
VERSION:2.0
PRODID:-//wp-events-plugin.com//7.2.3.1//EN
TZID:America/Detroit
X-WR-TIMEZONE:America/Detroit
BEGIN:VEVENT
UID:10226@cranbrookartmuseum.org
DTSTART:20190921T110000Z
DTEND:20190921T170000Z
DTSTAMP:20190917T200647Z
URL:https://cranbrookartmuseum.org/events/smithsonian-museum-day/
SUMMARY:Smithsonian Museum Day
DESCRIPTION:Museum Day is an annual celebration of boundless curiosity host
 ed by Smithsonian magazine. Participating museums and cultural institution
 s across the country provide free entry to anyone presenting a Museum Day 
 ticket. The Museum Day ticket provides free admission for two people on Sa
 turday\, September 21\, 2019.\n\nFind participating museums in your area a
 nd get your free admission ticket below!\n\nWhere will your curiosity lead
  you this Museum Day?\nLet us know @MuseumDay #MuseumDay #SmithsonianMusic
ATTACH;FMTTYPE=image/jpeg:https://cranbrookartmuseum.org/wp-content/upload
 s/2019/09/download.jpg
CATEGORIES:Events,Family
LOCATION:Cranbrook Art Museum\, 39221 Woodward Ave\, Box 801\, Bloomfield H
 ills\, MI\, 48303\, United States
GEO:42.5727665;-83.25051710000002
X-APPLE-STRUCTURED-LOCATION;VALUE=URI;X-ADDRESS=39221 Woodward Ave\, Box 80
 1\, Bloomfield Hills\, MI\, 48303\, United States;X-APPLE-RADIUS=100;X-TIT
 LE=Cranbrook Art Museum:geo:42.5727665,-83.25051710000002
END:VEVENT
END:VCALENDAR