BEGIN:VCALENDAR
VERSION:2.0
PRODID:-//wp-events-plugin.com//7.2.3.1//EN
TZID:America/Detroit
X-WR-TIMEZONE:America/Detroit
BEGIN:VEVENT
UID:11712@cranbrookartmuseum.org
DTSTART;TZID=America/Detroit:20251211T183000
DTEND;TZID=America/Detroit:20251211T200000
DTSTAMP:20251121T214651Z
URL:https://cranbrookartmuseum.org/events/splice-film-and-collage-with-kri
 s-mckinney/
SUMMARY:Splice: Film and Collage with Kris McKinney
DESCRIPTION:\n 	Join us for Splice: Film and Collage\, a series of in-galle
 ry performances in response to artworks in the exhibition Mythic Chaos: 50
  Years of Destroy All Monsters.\n\nKris McKinney is a video installation a
 rtist using both digital and analogue tools to structure their practice as
  an experimental filmmaker. Combining their own animated graphics with arc
 hived images and pre-recorded events\, they create uniquely textured portr
 aits of bodies in motion and shifting virtual landscapes- with an added la
 yer of whimsical audio tunes to further characterize each video/ short fil
 m.\n\nThe members of the collective Destroy All Monsters have referred to 
 their performances as “Distorted Psychedelic Chaotic High Energy Level M
 usic.” Like their live performances\, the collages they co-created were 
 layered critiques of society\, using imagery from films\, comic books\, ma
 gazines\, and other pop cultural sources. Splice: Film and Collage invites
  contemporary performance artists working in layered time-based media to p
 roduce new work. \n\n \n\nImage: Courtesy of Kris McKinney  
ATTACH;FMTTYPE=image/jpeg:https://cranbrookartmuseum.org/wp-content/upload
 s/2025/10/DSC05719_VSCO_VSCO-web.jpg
CATEGORIES:Mythic Chaos: 50 Years of Destroy All Monsters,Performance
LOCATION:Cranbrook Art Museum\, 39221 Woodward Ave\, Box 801\, Bloomfield H
 ills\, MI\, 48303\, United States
GEO:42.5727665;-83.25051710000002
X-APPLE-STRUCTURED-LOCATION;VALUE=URI;X-ADDRESS=39221 Woodward Ave\, Box 80
 1\, Bloomfield Hills\, MI\, 48303\, United States;X-APPLE-RADIUS=100;X-TIT
 LE=Cranbrook Art Museum:geo:42.5727665,-83.25051710000002
END:VEVENT
BEGIN:VTIMEZONE
TZID:America/Detroit
X-LIC-LOCATION:America/Detroit
BEGIN:STANDARD
DTSTART:20251102T010000
TZOFFSETFROM:-0400
TZOFFSETTO:-0500
TZNAME:EST
END:STANDARD
END:VTIMEZONE
END:VCALENDAR