BEGIN:VCALENDAR
VERSION:2.0
PRODID:-//wp-events-plugin.com//7.2.3.1//EN
TZID:America/Detroit
X-WR-TIMEZONE:America/Detroit
BEGIN:VEVENT
UID:11743@cranbrookartmuseum.org
DTSTART;TZID=America/Detroit:20260131T130000
DTEND;TZID=America/Detroit:20260131T150000
DTSTAMP:20260105T170854Z
URL:https://cranbrookartmuseum.org/events/splice-film-and-collage-with-ren
 ee-willoughby/
SUMMARY:Splice: Film and Collage with Renee Willoughby
DESCRIPTION:Join us for Splice: Film and Collage\, a series of in-gallery
  performances in response to artworks in the exhibition Mythic Chaos: 50
  years of Destroy All Monsters.  Renee Willoughby is an interdisciplina
 ry artist working individually and collaboratively in Detroit\, exploring 
 themes of collage\, ghosts\, and telematics. Her live video practice invol
 ves collaging images and objects into a creative feedback loop\, transform
 ing ordinary bits and pieces into the unknown\, or "other."  The members
  of the collective Destroy All Monsters have referred to their performance
 s as “Distorted Psychedelic Chaotic High Energy Level Music.” Like the
 ir live performances\, the collages they co-created were layered critiques
  of society\, using imagery from films\, comic books\, magazines\, and oth
 er pop cultural sources. Splice: Film and Collage invites contemporary p
 erformance artists working in layered time-based media to produce new work
 . \n\n \n\nImage: Renee Willoughby\, credit Paul Biundo  
ATTACH;FMTTYPE=image/jpeg:https://cranbrookartmuseum.org/wp-content/upload
 s/2026/01/splice_dsf3445-paulbiundocredit-web.jpg
CATEGORIES:Events
LOCATION:Cranbrook Art Museum\, Upper Galleries\, 39221 Woodward Ave\, Bloo
 mfield Hills\, MI\, 48303\, United States
GEO:42.5841626;-83.243155
X-APPLE-STRUCTURED-LOCATION;VALUE=URI;X-ADDRESS=39221 Woodward Ave\, Bloomf
 ield Hills\, MI\, 48303\, United States;X-APPLE-RADIUS=100;X-TITLE=Cranbro
 ok Art Museum\, Upper Galleries:geo:42.5841626,-83.243155
END:VEVENT
BEGIN:VTIMEZONE
TZID:America/Detroit
X-LIC-LOCATION:America/Detroit
BEGIN:STANDARD
DTSTART:20251102T010000
TZOFFSETFROM:-0400
TZOFFSETTO:-0500
TZNAME:EST
END:STANDARD
END:VTIMEZONE
END:VCALENDAR