BEGIN:VCALENDAR
VERSION:2.0
PRODID:-//wp-events-plugin.com//7.2.3.1//EN
TZID:America/Detroit
X-WR-TIMEZONE:America/Detroit
BEGIN:VEVENT
UID:9928@cranbrookartmuseum.org
DTSTART:20180420T150000Z
DTEND:20180420T163000Z
DTSTAMP:20180413T174019Z
URL:https://cranbrookartmuseum.org/events/stephanie-syjuco/
SUMMARY:Stephanie Syjuco
DESCRIPTION:Stephanie Syjuco creates large-scale spectacles of collected cu
 ltural objects\, cumulative archives\, and temporary vending installations
 \, often with an active public component that invites viewers to directly 
 participate as producers or distributors. Using critical wit and collabora
 tive co-creation\, her projects leverage open-source systems\, shareware l
 ogic and flows of capital to investigate issues of economies and empire. T
 his has included starting a global collaborative project with crochet craf
 ters to counterfeit high-end consumer goods\, presenting parasitic art cou
 nterfeiting events and developing alternative vending economies and other 
 speculative propositions.\n\n \n\nHosted by the Fiber Department
ATTACH;FMTTYPE=image/jpeg:https://cranbrookartmuseum.org/wp-content/upload
 s/2018/01/Stephanie-Syjuco-CITIZENS-2017.png
CATEGORIES:Lectures + Talks
LOCATION:Cranbrook Art Museum deSalle Auditorium\, 39221 Woodward Ave.\, Bl
 oomfield Hills\, MI\, 48304\, United States
X-APPLE-STRUCTURED-LOCATION;VALUE=URI;X-ADDRESS=39221 Woodward Ave.\, Bloom
 field Hills\, MI\, 48304\, United States;X-APPLE-RADIUS=100;X-TITLE=Cranbr
 ook Art Museum deSalle Auditorium:geo:0,0
END:VEVENT
END:VCALENDAR