BEGIN:VCALENDAR
VERSION:2.0
PRODID:-//wp-events-plugin.com//7.2.3.1//EN
TZID:America/Detroit
X-WR-TIMEZONE:America/Detroit
BEGIN:VEVENT
UID:10910@cranbrookartmuseum.org
DTSTART;TZID=America/Detroit:20230708T113000
DTEND;TZID=America/Detroit:20230708T123000
DTSTAMP:20230705T142148Z
URL:https://cranbrookartmuseum.org/events/still-interactive-meditation/
SUMMARY:CANCELED: Still - Interactive Meditation
DESCRIPTION:The "Still" meditation for July 8 has been canceled due to unfo
 reseen circumstances. We apologize for the inconvenience.\n\nJoin us for 
 “Still” an interactive sound &amp\; movement meditation beneath Sonya 
 Clark’s celestial quilt Finding Freedom in our North Gallery. Guided by 
 Sojourner Zenobia and Sophiyah Elizabeth\, “Still” invokes sun\, salt\
 , water\, deep ocean\, night sky\, and silence to help awaken internal exp
 eriences of freedom. Through this elemental journey\, guests are invited t
 o honor the many ways stillness exists and is rooted in the African Diaspo
 ra. \n\n&nbsp\;\n\nDetroit native\, Sophiyah Elizabeth is a multi-sensory
  artist\, sonic meditation practitioner + cultural conduit drawing inspira
 tion from life’s design &amp\; the desire to raise awareness for collect
 ive liberation and spiritual reverence. She has studied musical &amp\; sou
 nd expression\, acknowledging the energetic root of our interactions that 
 inform our body\, mind\, and soul. Through community organizing and music 
 production\, her practice explores deepening connections for legacy buildi
 ng and overall wellness. She is the founder of Afro Moone a Detroit-based 
 holistic resource providing integrative activation through advocacy design
 \, media production\, and accessible wellness resources for community care
 . She’s also the director of artist relations and Director of Programs f
 or D.Cipher\, a non-profit organization amplifying the Michigan music econ
 omy through artist development resources and event curation. Sophiyah's pa
 ssion for integration honors ancestral influence and radical sound design 
 to convey messages of empowerment. \n\nSojourner Zenobia (She/They)\, is 
 an embodied sacred space facilitator and multidisciplinary performance art
 ist and they are completely moved by being on this planet we call Earth. S
 ojourner facilitated a ritual and meditation practice space called "Stilln
 ess\," for over a decade. Through Stillness hundreds of BIPOC femmes and n
 on-binary folk have deepened in connecting with ancestors\, nature\, and t
 heir personal gifts. Sojourner is currently exploring their own stillness 
 by listening closely to how they receive information through the body and 
 by trusting the immediate relationships in their life to be enough. They h
 ave curated rituals and retreats for countless Midwest organizations inclu
 ding Haji Healing Salon\, John Kolher Arts Museum\, Cards Against Humaniti
 es\, and Enrich Chicago.  As a performer\, they use meditation\, ritual\
 , storytelling\, and somatic healing practices as\, “now portals\,” to
  reach across time and connect with ancestors\, listen to the earth\, and 
 follow the wisdom of the body. Through deep presence and listening Sojourn
 er collects movement\, song\, characters\, and poetic narratives to create
  participatory\, multi-sensory\, and multi-media worlds that inspire truth
 \, feeling\, and play. \n\n&nbsp\;
ATTACH;FMTTYPE=image/jpeg:https://cranbrookartmuseum.org/wp-content/upload
 s/2023/06/Carnegie50-scaled-e1686761157561.jpg
CATEGORIES:Sonya Clark: We Are Each Other
LOCATION:Cranbrook Art Museum\, Upper Galleries\, 39221 Woodward Ave\, Bloo
 mfield Hills\, MI\, 48303\, United States
GEO:42.5841626;-83.243155
X-APPLE-STRUCTURED-LOCATION;VALUE=URI;X-ADDRESS=39221 Woodward Ave\, Bloomf
 ield Hills\, MI\, 48303\, United States;X-APPLE-RADIUS=100;X-TITLE=Cranbro
 ok Art Museum\, Upper Galleries:geo:42.5841626,-83.243155
END:VEVENT
BEGIN:VTIMEZONE
TZID:America/Detroit
X-LIC-LOCATION:America/Detroit
BEGIN:DAYLIGHT
DTSTART:20230312T030000
TZOFFSETFROM:-0500
TZOFFSETTO:-0400
TZNAME:EDT
END:DAYLIGHT
END:VTIMEZONE
END:VCALENDAR