BEGIN:VCALENDAR
VERSION:2.0
PRODID:-//wp-events-plugin.com//7.2.3.1//EN
TZID:America/Detroit
X-WR-TIMEZONE:America/Detroit
BEGIN:VEVENT
UID:9978@cranbrookartmuseum.org
DTSTART:20180714T120000Z
DTEND:20180714T130000Z
DTSTAMP:20180619T171315Z
URL:https://cranbrookartmuseum.org/events/story-time-at-cam/
SUMMARY:Listen\, Look\, Learn: Storytime at CAM
DESCRIPTION:Join museum educators for story time and self-guided observatio
 n activities in our current exhibitions! Content will be geared toward chi
 ldren ages 3 – 6\, but all ages are welcome with an adult! As always\, c
 hildren 12 and under are free! Please pre-register at visitart@cranbrook.e
 du\n\nOn July 14th\, Museum Educators will be reading “Punk Farm” by J
 arrett J. Krosoczka. After a long day of work\, Farmer Joe goes home to be
 d. But meanwhile\, back at the barn… Cow sets up her drums. Pig plugs in
  his amp. Goat tunes his bass. Chicken sets up her keyboards. And Sheep ch
 ecks the microphone. They are Punk Farm and tonight they're ready to ROCK!
ATTACH;FMTTYPE=image/jpeg:https://cranbrookartmuseum.org/wp-content/upload
 s/2018/06/punk_farm.jpg
CATEGORIES:Events,Family
LOCATION:Cranbrook Art Museum\, Upper Galleries\, 39221 Woodward Ave\, Bloo
 mfield Hills\, MI\, 48303\, United States
GEO:42.5841626;-83.243155
X-APPLE-STRUCTURED-LOCATION;VALUE=URI;X-ADDRESS=39221 Woodward Ave\, Bloomf
 ield Hills\, MI\, 48303\, United States;X-APPLE-RADIUS=100;X-TITLE=Cranbro
 ok Art Museum\, Upper Galleries:geo:42.5841626,-83.243155
END:VEVENT
END:VCALENDAR