BEGIN:VCALENDAR
VERSION:2.0
PRODID:-//wp-events-plugin.com//7.2.3.1//EN
TZID:America/Detroit
X-WR-TIMEZONE:America/Detroit
BEGIN:VEVENT
UID:11811@cranbrookartmuseum.org
DTSTART;TZID=America/Detroit:20260611T160000
DTEND;TZID=America/Detroit:20260611T200000
DTSTAMP:20260422T154018Z
URL:https://cranbrookartmuseum.org/events/swing-into-summer-pride-at-cranb
 rook-on-the-green/
SUMMARY:Swing into Summer: Pride at Cranbrook on the Green
DESCRIPTION:Get ready to tee off and celebrate Pride! Cranbrook Art Museum 
 is teaming up with Stonewall Sports Detroit for an unforgettable evening o
 f community and mini-golf on our artist-designed course. Whether you’re 
 a seasoned pro or just here for the vibes and the views\, this is the perf
 ect kick–off to the season. \n\nCelebrate Pride with 50% off all adult t
 ickets\, local beats to keep your energy high and your swing smooth\, a ca
 sh bar on-site serving refreshing beer\, wine\, and specialty cocktails\, 
 and free admission to the galleries! \n\nThe discount will be automatical
 ly applied at checkout when you select tickets for 4-8pm on Thursday\, Jun
 e 11th. \n\nThe Detroit Chapter of Stonewall Sports is a national\, non-p
 rofit organization promoting community and philanthropy through LGBTQ+ spo
 rts leagues. They offer a fun\, safe\, and inclusive sports environment fo
 r all LGBTQ+ people and allies while also giving back to our local communi
 ty. \n\n
ATTACH;FMTTYPE=image/jpeg:https://cranbrookartmuseum.org/wp-content/upload
 s/2026/04/Gay-e1776795688757.jpg
CATEGORIES:Events
LOCATION:Cranbrook Art Museum Grounds\, 39221 Woodward Ave.\, Bloomfield Hi
 lls\, MI\, 48304\, United States
X-APPLE-STRUCTURED-LOCATION;VALUE=URI;X-ADDRESS=39221 Woodward Ave.\, Bloom
 field Hills\, MI\, 48304\, United States;X-APPLE-RADIUS=100;X-TITLE=Cranbr
 ook Art Museum Grounds:geo:0,0
END:VEVENT
BEGIN:VTIMEZONE
TZID:America/Detroit
X-LIC-LOCATION:America/Detroit
BEGIN:DAYLIGHT
DTSTART:20260308T030000
TZOFFSETFROM:-0500
TZOFFSETTO:-0400
TZNAME:EDT
END:DAYLIGHT
END:VTIMEZONE
END:VCALENDAR