BEGIN:VCALENDAR
VERSION:2.0
PRODID:-//wp-events-plugin.com//7.2.3.1//EN
TZID:America/Detroit
X-WR-TIMEZONE:America/Detroit
BEGIN:VEVENT
UID:11432@cranbrookartmuseum.org
DTSTART;TZID=America/Detroit:20250306T173000
DTEND;TZID=America/Detroit:20250306T193000
DTSTAMP:20250224T182505Z
URL:https://cranbrookartmuseum.org/events/wainger-workshop-3-6/
SUMMARY:Wainger Workshop: Instant Photography
DESCRIPTION:Join us for artist-led workshops in Wainger Gallery on select T
 hursdays! Each two-hour workshop will feature a different artmaking theme\
 , drawing inspiration from artwork in our collection. Together we will loo
 k closely at artworks and learn about the artist’s intentions and proces
 ses before making our own works of art with guidance from visiting artists
  and museum staff. \n\nJoin guest artist Danielle deo Owensby for a works
 hop inspired by the photography in our collection\, including Andy Warhol
 ’s iconic Polaroids. Warhol famously carried his Polaroid everywhere\, c
 apturing moments and personalities like Pele\, Marilyn Monroe\, Bette Midl
 er\, and Elizabeth Taylor. In this hands-on workshop\, participants will e
 xperiment with creative posing and collage techniques to create bold\, per
 sonalized self-portrait instant photographs that reflect their unique visi
 on.\n\nDanielle "deo" Owensby is an artist and educator whose work centers
  on contemporary photography as a means to explore the complexities of mem
 ory\, trauma\, loss\, and nostalgia. Through a fusion of installation\, pe
 rformance\, and collage\, Owensby creates immersive visual narratives that
  stem from deeply personal experiences\, inviting audiences into intimate 
 dialogues that transcend individual memory and touch on universal themes.\
 n\nOwensby was a ProjectArt Detroit Teaching Artist-in-Residence (2022-202
 3) and part of the Womxnhouse Detroit 2024 Residency. Their work has been 
 exhibited internationally in venues such as the Melbourne Art Center in Me
 lbourne\, Australia\; University of the Arts in Philadelphia\, Pennsylvani
 a\; and the Grand Rapids Art Museum in Grand Rapids\, Michigan. Her work h
 as been published in various publications\, from art books to blogs\, and 
 is in private collections around the globe.\n\n$25 per participant\, $20 f
 or ArtMembers\, intended for ages 16 and up. Pre-registration is required 
 through our website.
ATTACH;FMTTYPE=image/jpeg:https://cranbrookartmuseum.org/wp-content/upload
 s/2024/12/instantphotographyworkshop-scaled.jpg
CATEGORIES:Family,Workshops
LOCATION:Cranbrook Art Museum\, 39221 Woodward Ave\, Box 801\, Bloomfield H
 ills\, MI\, 48303\, United States
GEO:42.5727665;-83.25051710000002
X-APPLE-STRUCTURED-LOCATION;VALUE=URI;X-ADDRESS=39221 Woodward Ave\, Box 80
 1\, Bloomfield Hills\, MI\, 48303\, United States;X-APPLE-RADIUS=100;X-TIT
 LE=Cranbrook Art Museum:geo:42.5727665,-83.25051710000002
END:VEVENT
BEGIN:VTIMEZONE
TZID:America/Detroit
X-LIC-LOCATION:America/Detroit
BEGIN:STANDARD
DTSTART:20241103T010000
TZOFFSETFROM:-0400
TZOFFSETTO:-0500
TZNAME:EST
END:STANDARD
END:VTIMEZONE
END:VCALENDAR